BEGIN:VCALENDAR
VERSION:2.0
PRODID:icalendar-ruby
CALSCALE:GREGORIAN
METHOD:PUBLISH
BEGIN:VEVENT
DTSTAMP:20260424T151455Z
UID:18-1307210@gaylesmbc.org
DTSTART:20260620T170000Z
DTEND:20260620T220000Z
CLASS:PUBLIC
CREATED:20260408T164152
DESCRIPTION:
LAST-MODIFIED:20260408T164152
LOCATION:Greene Field Park
SUMMARY:Church Picnic
URL;VALUE=URI:https://www.gaylesmbc.org/events/church-picnic--18/2026-06-20
END:VEVENT
END:VCALENDAR
